BEGIN:VCALENDAR
VERSION:2.0
PRODID:https://www.kufer.de/kuferweb / DE
METHOD:PUBLISH
CALSCALE:GREGORIAN
X-WR-TIMEZONE:Europe/Berlin
BEGIN:VTIMEZONE
TZID:Europe/Berlin
X-LIC-LOCATION:Europe/Berlin
BEGIN:DAYLIGHT
TZOFFSETFROM:+0100
TZOFFSETTO:+0200
TZNAME:CEST
DTSTART:19700329T020000
RRULE:FREQ=YEARLY;INTERVAL=1;BYDAY=-1SU;BYMONTH=3
END:DAYLIGHT
BEGIN:STANDARD
TZOFFSETFROM:+0200
TZOFFSETTO:+0100
TZNAME:CET
DTSTART:19701025T030000
RRULE:FREQ=YEARLY;INTERVAL=1;BYDAY=-1SU;BYMONTH=10
END:STANDARD
END:VTIMEZONE
BEGIN:VEVENT
DTSTAMP:20260420T054852
DTSTART;TZID=Europe/Berlin:20260418T113000
DTEND;TZID=Europe/Berlin:20260418T130000
UID:261-45225-20260418T113000@VHSSAUERLACH
SUMMARY:MKT für Kinder der 3. bis 6. Klasse Marburger Konzentrationstraining (261-45225) 
LOCATION:vhs-Haus, Sauerlach, Vortragsraum, Bahnhofstr. 5, 82054 Sauerlach
END:VEVENT
BEGIN:VEVENT
DTSTAMP:20260420T054852
DTSTART;TZID=Europe/Berlin:20260425T113000
DTEND;TZID=Europe/Berlin:20260425T130000
UID:261-45225-20260425T113000@VHSSAUERLACH
SUMMARY:MKT für Kinder der 3. bis 6. Klasse Marburger Konzentrationstraining (261-45225) 
LOCATION:vhs-Haus, Sauerlach, Vortragsraum, Bahnhofstr. 5, 82054 Sauerlach
END:VEVENT
BEGIN:VEVENT
DTSTAMP:20260420T054852
DTSTART;TZID=Europe/Berlin:20260502T113000
DTEND;TZID=Europe/Berlin:20260502T130000
UID:261-45225-20260502T113000@VHSSAUERLACH
SUMMARY:MKT für Kinder der 3. bis 6. Klasse Marburger Konzentrationstraining (261-45225) 
LOCATION:vhs-Haus, Sauerlach, Vortragsraum, Bahnhofstr. 5, 82054 Sauerlach
END:VEVENT
BEGIN:VEVENT
DTSTAMP:20260420T054852
DTSTART;TZID=Europe/Berlin:20260509T113000
DTEND;TZID=Europe/Berlin:20260509T130000
UID:261-45225-20260509T113000@VHSSAUERLACH
SUMMARY:MKT für Kinder der 3. bis 6. Klasse Marburger Konzentrationstraining (261-45225) 
LOCATION:vhs-Haus, Sauerlach, Vortragsraum, Bahnhofstr. 5, 82054 Sauerlach
END:VEVENT
BEGIN:VEVENT
DTSTAMP:20260420T054852
DTSTART;TZID=Europe/Berlin:20260516T113000
DTEND;TZID=Europe/Berlin:20260516T130000
UID:261-45225-20260516T113000@VHSSAUERLACH
SUMMARY:MKT für Kinder der 3. bis 6. Klasse Marburger Konzentrationstraining (261-45225) 
LOCATION:vhs-Haus, Sauerlach, Vortragsraum, Bahnhofstr. 5, 82054 Sauerlach
END:VEVENT
BEGIN:VEVENT
DTSTAMP:20260420T054852
DTSTART;TZID=Europe/Berlin:20260613T113000
DTEND;TZID=Europe/Berlin:20260613T130000
UID:261-45225-20260613T113000@VHSSAUERLACH
DESCRIPTION:Ersatz für Ausfall am 23.05.2026
SUMMARY:MKT für Kinder der 3. bis 6. Klasse Marburger Konzentrationstraining (261-45225) 
LOCATION:vhs-Haus, Sauerlach, Vortragsraum, Bahnhofstr. 5, 82054 Sauerlach
END:VEVENT
END:VCALENDAR